BEGIN:VCALENDAR
VERSION:2.0
PRODID:-//Captain Jacob Van Meter Chapter - DAR - ECPv6.15.20//NONSGML v1.0//EN
CALSCALE:GREGORIAN
METHOD:PUBLISH
X-WR-CALNAME:Captain Jacob Van Meter Chapter - DAR
X-ORIGINAL-URL:https://captainjacobvanmeterdar.org
X-WR-CALDESC:Events for Captain Jacob Van Meter Chapter - DAR
REFRESH-INTERVAL;VALUE=DURATION:PT1H
X-Robots-Tag:noindex
X-PUBLISHED-TTL:PT1H
BEGIN:VTIMEZONE
TZID:America/Kentucky/Louisville
BEGIN:DAYLIGHT
TZOFFSETFROM:-0500
TZOFFSETTO:-0400
TZNAME:EDT
DTSTART:20200308T070000
END:DAYLIGHT
BEGIN:STANDARD
TZOFFSETFROM:-0400
TZOFFSETTO:-0500
TZNAME:EST
DTSTART:20201101T060000
END:STANDARD
BEGIN:DAYLIGHT
TZOFFSETFROM:-0500
TZOFFSETTO:-0400
TZNAME:EDT
DTSTART:20210314T070000
END:DAYLIGHT
BEGIN:STANDARD
TZOFFSETFROM:-0400
TZOFFSETTO:-0500
TZNAME:EST
DTSTART:20211107T060000
END:STANDARD
BEGIN:DAYLIGHT
TZOFFSETFROM:-0500
TZOFFSETTO:-0400
TZNAME:EDT
DTSTART:20220313T070000
END:DAYLIGHT
BEGIN:STANDARD
TZOFFSETFROM:-0400
TZOFFSETTO:-0500
TZNAME:EST
DTSTART:20221106T060000
END:STANDARD
BEGIN:DAYLIGHT
TZOFFSETFROM:-0500
TZOFFSETTO:-0400
TZNAME:EDT
DTSTART:20230312T070000
END:DAYLIGHT
BEGIN:STANDARD
TZOFFSETFROM:-0400
TZOFFSETTO:-0500
TZNAME:EST
DTSTART:20231105T060000
END:STANDARD
END:VTIMEZONE
BEGIN:VEVENT
DTSTART;TZID=America/Kentucky/Louisville:20220617T110000
DTEND;TZID=America/Kentucky/Louisville:20220617T110000
DTSTAMP:20260423T141727
CREATED:20220314T175357Z
LAST-MODIFIED:20220314T224331Z
UID:112-1655463600-1655463600@captainjacobvanmeterdar.org
SUMMARY:June Chapter Program
DESCRIPTION:Installation of New Officers \nBoy Scouts: Flag Etiquette 
URL:https://captainjacobvanmeterdar.org/event/june-chapter-program/
CATEGORIES:Monthly Program
ATTACH;FMTTYPE=image/png:https://captainjacobvanmeterdar.org/wp-content/uploads/2022/03/cropped-DAR-Horz-Black-high_blog_0no-BG2-1.png
END:VEVENT
BEGIN:VEVENT
DTSTART;TZID=America/Kentucky/Louisville:20220520T110000
DTEND;TZID=America/Kentucky/Louisville:20220520T110000
DTSTAMP:20260423T141727
CREATED:20220314T175245Z
LAST-MODIFIED:20220314T224448Z
UID:110-1653044400-1653044400@captainjacobvanmeterdar.org
SUMMARY:May Chapter Program
DESCRIPTION:Patriots Memorial Service 
URL:https://captainjacobvanmeterdar.org/event/may-chapter-program/
CATEGORIES:Monthly Program
ATTACH;FMTTYPE=image/png:https://captainjacobvanmeterdar.org/wp-content/uploads/2022/03/cropped-DAR-Horz-Black-high_blog_0no-BG2-1.png
END:VEVENT
BEGIN:VEVENT
DTSTART;TZID=America/Kentucky/Louisville:20220318T110000
DTEND;TZID=America/Kentucky/Louisville:20220318T110000
DTSTAMP:20260423T141727
CREATED:20220314T175117Z
LAST-MODIFIED:20220314T224503Z
UID:108-1647601200-1647601200@captainjacobvanmeterdar.org
SUMMARY:March Chapter Program
DESCRIPTION:Steve Rafferty: “A Town Divided! The Showers and Moore Feud in Elizabethtown\, KY”\nWas It Murder or Suicide? 
URL:https://captainjacobvanmeterdar.org/event/march-chapter-program/
CATEGORIES:Monthly Program
ATTACH;FMTTYPE=image/png:https://captainjacobvanmeterdar.org/wp-content/uploads/2022/03/cropped-DAR-Horz-Black-high_blog_0no-BG2-1.png
END:VEVENT
BEGIN:VEVENT
DTSTART;TZID=America/Kentucky/Louisville:20211210T110000
DTEND;TZID=America/Kentucky/Louisville:20211210T110000
DTSTAMP:20260423T141727
CREATED:20220314T174804Z
LAST-MODIFIED:20220314T224515Z
UID:104-1639134000-1639134000@captainjacobvanmeterdar.org
SUMMARY:Celebrating 75 Years!  - December Chapter Program
DESCRIPTION:75th Anniversary of Captain Jacob Van Meter Chapter Photo \nCaroling After the Meeting For Chapter Shut-In Members
URL:https://captainjacobvanmeterdar.org/event/celebrating-75-years-december-chapter-program/
CATEGORIES:Monthly Program
ATTACH;FMTTYPE=image/png:https://captainjacobvanmeterdar.org/wp-content/uploads/2022/03/cropped-DAR-Horz-Black-high_blog_0no-BG2-1.png
END:VEVENT
BEGIN:VEVENT
DTSTART;TZID=America/Kentucky/Louisville:20211119T110000
DTEND;TZID=America/Kentucky/Louisville:20211119T110000
DTSTAMP:20260423T141727
CREATED:20220314T174932Z
LAST-MODIFIED:20220314T224525Z
UID:106-1637319600-1637319600@captainjacobvanmeterdar.org
SUMMARY:November Chapter Program
DESCRIPTION:Tressa Brown\, Kentucky Heritage Council: “Kentucky Native People” \nCollect for Summer Indian Youth Camp
URL:https://captainjacobvanmeterdar.org/event/november-chapter-program/
CATEGORIES:Monthly Program
ATTACH;FMTTYPE=image/png:https://captainjacobvanmeterdar.org/wp-content/uploads/2022/03/cropped-DAR-Horz-Black-high_blog_0no-BG2-1.png
END:VEVENT
BEGIN:VEVENT
DTSTART;TZID=America/Kentucky/Louisville:20211015T110000
DTEND;TZID=America/Kentucky/Louisville:20211015T110000
DTSTAMP:20260423T141727
CREATED:20220314T174456Z
LAST-MODIFIED:20220314T224540Z
UID:102-1634295600-1634295600@captainjacobvanmeterdar.org
SUMMARY:October Chapter Program
DESCRIPTION:New Member Ceremony\nDAR Pins – What do they mean?
URL:https://captainjacobvanmeterdar.org/event/october-chapter-program/
CATEGORIES:Monthly Program
ATTACH;FMTTYPE=image/png:https://captainjacobvanmeterdar.org/wp-content/uploads/2022/03/cropped-DAR-Horz-Black-high_blog_0no-BG2-1.png
END:VEVENT
BEGIN:VEVENT
DTSTART;TZID=America/Kentucky/Louisville:20210916T113000
DTEND;TZID=America/Kentucky/Louisville:20210916T113000
DTSTAMP:20260423T141727
CREATED:20220314T174248Z
LAST-MODIFIED:20220314T224554Z
UID:97-1631791800-1631791800@captainjacobvanmeterdar.org
SUMMARY:September Chapter Program
DESCRIPTION:
URL:https://captainjacobvanmeterdar.org/event/september-chapter-program/
CATEGORIES:Monthly Program
ATTACH;FMTTYPE=image/png:https://captainjacobvanmeterdar.org/wp-content/uploads/2022/03/cropped-DAR-Horz-Black-high_blog_0no-BG.png
END:VEVENT
END:VCALENDAR